BEGIN:VCALENDAR
VERSION:2.0
PRODID:-//Rocklyn Cap - ECPv6.15.20//NONSGML v1.0//EN
CALSCALE:GREGORIAN
METHOD:PUBLISH
X-ORIGINAL-URL:https://www.rocklyncap.com
X-WR-CALDESC:Events for Rocklyn Cap
REFRESH-INTERVAL;VALUE=DURATION:PT1H
X-Robots-Tag:noindex
X-PUBLISHED-TTL:PT1H
BEGIN:VTIMEZONE
TZID:America/New_York
BEGIN:DAYLIGHT
TZOFFSETFROM:-0500
TZOFFSETTO:-0400
TZNAME:EDT
DTSTART:20210314T070000
END:DAYLIGHT
BEGIN:STANDARD
TZOFFSETFROM:-0400
TZOFFSETTO:-0500
TZNAME:EST
DTSTART:20211107T060000
END:STANDARD
BEGIN:DAYLIGHT
TZOFFSETFROM:-0500
TZOFFSETTO:-0400
TZNAME:EDT
DTSTART:20220313T070000
END:DAYLIGHT
BEGIN:STANDARD
TZOFFSETFROM:-0400
TZOFFSETTO:-0500
TZNAME:EST
DTSTART:20221106T060000
END:STANDARD
BEGIN:DAYLIGHT
TZOFFSETFROM:-0500
TZOFFSETTO:-0400
TZNAME:EDT
DTSTART:20230312T070000
END:DAYLIGHT
BEGIN:STANDARD
TZOFFSETFROM:-0400
TZOFFSETTO:-0500
TZNAME:EST
DTSTART:20231105T060000
END:STANDARD
END:VTIMEZONE
BEGIN:VEVENT
DTSTART;TZID=America/New_York:20221214T110000
DTEND;TZID=America/New_York:20221214T120000
DTSTAMP:20260419T080921
CREATED:20221205T190201Z
LAST-MODIFIED:20230110T194658Z
UID:10768-1671015600-1671019200@www.rocklyncap.com
SUMMARY:Craft Club @ Clubhouse
DESCRIPTION:Bring whatever project you are working on. Show off your crafting skills and inspire others!
URL:https://www.rocklyncap.com/event/craft-club-clubhouse-6/
END:VEVENT
BEGIN:VEVENT
DTSTART;TZID=America/New_York:20221214T094500
DTEND;TZID=America/New_York:20221214T103000
DTSTAMP:20260419T080921
CREATED:20221205T190201Z
LAST-MODIFIED:20230110T194658Z
UID:10767-1671011100-1671013800@www.rocklyncap.com
SUMMARY:Guest led exercise group @ clubhouse
DESCRIPTION:Iris will lead some type of exercise from water aerobics to chair aerobics
URL:https://www.rocklyncap.com/event/guest-led-exercise-group-clubhouse-4/
END:VEVENT
BEGIN:VEVENT
DTSTART;TZID=America/New_York:20221214T090000
DTEND;TZID=America/New_York:20221214T110000
DTSTAMP:20260419T080921
CREATED:20221205T190200Z
LAST-MODIFIED:20230110T194658Z
UID:10764-1671008400-1671015600@www.rocklyncap.com
SUMMARY:Pickleball - open court
DESCRIPTION:Join your fellow pickle ballers at the courts. Beginners welcome.
URL:https://www.rocklyncap.com/event/pickleball-open-court-8/
END:VEVENT
BEGIN:VEVENT
DTSTART;TZID=America/New_York:20221214T083000
DTEND;TZID=America/New_York:20221214T090000
DTSTAMP:20260419T080921
CREATED:20221205T190201Z
LAST-MODIFIED:20230110T194658Z
UID:10766-1671006600-1671008400@www.rocklyncap.com
SUMMARY:Morning Move - Walking Club
DESCRIPTION:Meet @ the clubhouse to walk or bike with your fellow campers around the resort
URL:https://www.rocklyncap.com/event/morning-move-walking-club-10/
END:VEVENT
BEGIN:VEVENT
DTSTART;TZID=America/New_York:20221214T080000
DTEND;TZID=America/New_York:20221214T090000
DTSTAMP:20260419T080921
CREATED:20221205T190201Z
LAST-MODIFIED:20230110T194658Z
UID:10765-1671004800-1671008400@www.rocklyncap.com
SUMMARY:Coffee & Conversation @ Clubhouse
DESCRIPTION:Join your fellow campers for coffee @ the Clubhouse
URL:https://www.rocklyncap.com/event/coffee-conversation-clubhouse-9/
END:VEVENT
BEGIN:VEVENT
DTSTART;TZID=America/New_York:20221213T173000
DTEND;TZID=America/New_York:20221213T193000
DTSTAMP:20260419T080921
CREATED:20221205T190200Z
LAST-MODIFIED:20221205T190200Z
UID:10763-1670952600-1670959800@www.rocklyncap.com
SUMMARY:Paint like Bob Ross Demo - Free by Dan Wilcox
DESCRIPTION:Certified Bob Ross painting instructor (CRI).  Dan Wilcox will do a painting demo\, much like Bob Ross did for many years on PBS where he would paint a beautiful painting in about 30 minutes If there is interest for me to conduct a workshop experience\, then we could schedule that very soon after the demo. The demo is a free service that I just love to do\, and then the workshop would be $55 per person\, and I will supply all the needed materials (paints\, brushes\, canvases) and each participant will get to keep the masterpiece they create on canvas and a certificate. I would need you to provide the space\, tables\, and chairs.
URL:https://www.rocklyncap.com/event/paint-like-bob-ross-demo-free-by-dan-wilcox/
END:VEVENT
BEGIN:VEVENT
DTSTART;TZID=America/New_York:20221213T173000
DTEND;TZID=America/New_York:20221213T183000
DTSTAMP:20260419T080921
CREATED:20230110T194658Z
LAST-MODIFIED:20230110T194658Z
UID:11447-1670952600-1670956200@www.rocklyncap.com
SUMMARY:Paint like Bob Ross Demo
DESCRIPTION:Learn How to paint like Bob Rossi! Join us for this free Demo class!
URL:https://www.rocklyncap.com/event/paint-like-bob-ross-demo/
LOCATION:Clubhouse
END:VEVENT
BEGIN:VEVENT
DTSTART;TZID=America/New_York:20221213T170000
DTEND;TZID=America/New_York:20221213T183000
DTSTAMP:20260419T080921
CREATED:20221205T190200Z
LAST-MODIFIED:20230110T194657Z
UID:10762-1670950800-1670956200@www.rocklyncap.com
SUMMARY:Fireside Chat
DESCRIPTION:
URL:https://www.rocklyncap.com/event/fireside-chat-8/
END:VEVENT
BEGIN:VEVENT
DTSTART;TZID=America/New_York:20221213T110000
DTEND;TZID=America/New_York:20221213T120000
DTSTAMP:20260419T080921
CREATED:20221205T190200Z
LAST-MODIFIED:20230110T194658Z
UID:10761-1670929200-1670932800@www.rocklyncap.com
SUMMARY:Cocktails and Coloring!
DESCRIPTION:Bring your favorite drink\, your coloring books\, supplies and let’s have some relaxing fun!  We have some supplies to share also!
URL:https://www.rocklyncap.com/event/craft-club-clubhouse-5/
LOCATION:Clubhouse
END:VEVENT
BEGIN:VEVENT
DTSTART;TZID=America/New_York:20221213T090000
DTEND;TZID=America/New_York:20221213T110000
DTSTAMP:20260419T080921
CREATED:20221205T190200Z
LAST-MODIFIED:20230110T194657Z
UID:10760-1670922000-1670929200@www.rocklyncap.com
SUMMARY:Pickleball - open court
DESCRIPTION:Join your fellow pickle ballers at the courts. Beginners welcome.
URL:https://www.rocklyncap.com/event/pickleball-open-court-7/
END:VEVENT
BEGIN:VEVENT
DTSTART;TZID=America/New_York:20221213T083000
DTEND;TZID=America/New_York:20221213T090000
DTSTAMP:20260419T080921
CREATED:20221205T190200Z
LAST-MODIFIED:20230110T194657Z
UID:10759-1670920200-1670922000@www.rocklyncap.com
SUMMARY:Morning Move - Walking Club
DESCRIPTION:Meet @ the clubhouse to walk or bike with your fellow campers around the resort
URL:https://www.rocklyncap.com/event/morning-move-walking-club-9/
END:VEVENT
BEGIN:VEVENT
DTSTART;TZID=America/New_York:20221213T080000
DTEND;TZID=America/New_York:20221213T090000
DTSTAMP:20260419T080921
CREATED:20221205T190200Z
LAST-MODIFIED:20230110T194657Z
UID:10757-1670918400-1670922000@www.rocklyncap.com
SUMMARY:Coffee & Conversation @ Clubhouse
DESCRIPTION:Join your fellow campers for coffee @ the Clubhouse
URL:https://www.rocklyncap.com/event/coffee-conversation-clubhouse-8/
END:VEVENT
BEGIN:VEVENT
DTSTART;VALUE=DATE:20221213
DTEND;VALUE=DATE:20221214
DTSTAMP:20260419T080921
CREATED:20221205T190200Z
LAST-MODIFIED:20230110T194657Z
UID:10758-1670889600-1670975999@www.rocklyncap.com
SUMMARY:Etherridge Cattle Company 2:30 - 3:30 pm Fresh Meat Company
DESCRIPTION:
URL:https://www.rocklyncap.com/event/etherridge-cattle-company-230-330-pm-fresh-meat-company-3/
END:VEVENT
BEGIN:VEVENT
DTSTART;TZID=America/New_York:20221212T183000
DTEND;TZID=America/New_York:20221212T203000
DTSTAMP:20260419T080921
CREATED:20221205T190159Z
LAST-MODIFIED:20230110T194657Z
UID:10755-1670869800-1670877000@www.rocklyncap.com
SUMMARY:CARD Game Night
DESCRIPTION:Calling all Poker\, Euchre\, Bridge\, Spades\, Left Right Center Card players… Tonight is your night! Stop by the Campfires to Roast a hot dog\, then head over to the Clubhouse for a fun night of cards.
URL:https://www.rocklyncap.com/event/fun-card-board-games-clubhouse-2/
LOCATION:Clubhouse
END:VEVENT
BEGIN:VEVENT
DTSTART;TZID=America/New_York:20221212T170000
DTEND;TZID=America/New_York:20221212T183000
DTSTAMP:20260419T080921
CREATED:20221205T190200Z
LAST-MODIFIED:20230110T194657Z
UID:10756-1670864400-1670869800@www.rocklyncap.com
SUMMARY:Fireside Chat
DESCRIPTION:
URL:https://www.rocklyncap.com/event/fireside-chat-7/
END:VEVENT
BEGIN:VEVENT
DTSTART;TZID=America/New_York:20221212T170000
DTEND;TZID=America/New_York:20221212T180000
DTSTAMP:20260419T080921
CREATED:20221205T190159Z
LAST-MODIFIED:20230110T194657Z
UID:10754-1670864400-1670868000@www.rocklyncap.com
SUMMARY:Hot Dog Roast @ Firepits
DESCRIPTION:Meet new friends and roast a hot dog over the fire.  We provide the hot dog and all the fixings.  By Donation.  All donations will go to our Charity K9’s for Warriors!
URL:https://www.rocklyncap.com/event/hot-dog-roast-firepits-2/
LOCATION:Firepits
END:VEVENT
BEGIN:VEVENT
DTSTART;TZID=America/New_York:20221212T110000
DTEND;TZID=America/New_York:20221212T120000
DTSTAMP:20260419T080921
CREATED:20221205T190159Z
LAST-MODIFIED:20230110T194657Z
UID:10751-1670842800-1670846400@www.rocklyncap.com
SUMMARY:Craft Club @ Clubhouse
DESCRIPTION:Bring whatever project you are working on. Show off your crafting skills and inspire others!
URL:https://www.rocklyncap.com/event/craft-club-clubhouse-4/
END:VEVENT
BEGIN:VEVENT
DTSTART;TZID=America/New_York:20221212T094500
DTEND;TZID=America/New_York:20221212T103000
DTSTAMP:20260419T080922
CREATED:20221205T190159Z
LAST-MODIFIED:20230110T194657Z
UID:10753-1670838300-1670841000@www.rocklyncap.com
SUMMARY:Guest led exercise group @ clubhouse
DESCRIPTION:Iris will lead some type of exercise from water aerobics to chair aerobics
URL:https://www.rocklyncap.com/event/guest-led-exercise-group-clubhouse-3/
END:VEVENT
BEGIN:VEVENT
DTSTART;TZID=America/New_York:20221212T090000
DTEND;TZID=America/New_York:20221212T110000
DTSTAMP:20260419T080922
CREATED:20221205T190159Z
LAST-MODIFIED:20230110T194656Z
UID:10752-1670835600-1670842800@www.rocklyncap.com
SUMMARY:Pickleball - open court
DESCRIPTION:Join your fellow pickle ballers at the courts. Beginners welcome.
URL:https://www.rocklyncap.com/event/pickleball-open-court-6/
END:VEVENT
BEGIN:VEVENT
DTSTART;TZID=America/New_York:20221212T083000
DTEND;TZID=America/New_York:20221212T090000
DTSTAMP:20260419T080922
CREATED:20221205T190159Z
LAST-MODIFIED:20230110T194656Z
UID:10750-1670833800-1670835600@www.rocklyncap.com
SUMMARY:Morning Move - Walking Club
DESCRIPTION:Meet @ the clubhouse to walk or bike with your fellow campers around the resort
URL:https://www.rocklyncap.com/event/morning-move-walking-club-8/
END:VEVENT
BEGIN:VEVENT
DTSTART;TZID=America/New_York:20221212T080000
DTEND;TZID=America/New_York:20221212T090000
DTSTAMP:20260419T080922
CREATED:20221205T190159Z
LAST-MODIFIED:20230110T194656Z
UID:10749-1670832000-1670835600@www.rocklyncap.com
SUMMARY:Coffee & Conversation @ Clubhouse
DESCRIPTION:Join your fellow campers for coffee @ the Clubhouse
URL:https://www.rocklyncap.com/event/coffee-conversation-clubhouse-7/
END:VEVENT
BEGIN:VEVENT
DTSTART;TZID=America/New_York:20221211T170000
DTEND;TZID=America/New_York:20221211T183000
DTSTAMP:20260419T080922
CREATED:20221205T190159Z
LAST-MODIFIED:20230110T194656Z
UID:10748-1670778000-1670783400@www.rocklyncap.com
SUMMARY:Bring your Own Instrument - MUSIC JAM
DESCRIPTION:Bring your own Instrument and jam with your fellow campers around the firepits!
URL:https://www.rocklyncap.com/event/bring-your-own-instrument-music-jam/
LOCATION:Campfires
END:VEVENT
BEGIN:VEVENT
DTSTART;TZID=America/New_York:20221211T083000
DTEND;TZID=America/New_York:20221211T090000
DTSTAMP:20260419T080922
CREATED:20221205T190158Z
LAST-MODIFIED:20230110T194656Z
UID:10746-1670747400-1670749200@www.rocklyncap.com
SUMMARY:Morning Move - Walking Club
DESCRIPTION:Meet @ the clubhouse to walk or bike with your fellow campers around the resort
URL:https://www.rocklyncap.com/event/morning-move-walking-club-7/
END:VEVENT
BEGIN:VEVENT
DTSTART;TZID=America/New_York:20221211T080000
DTEND;TZID=America/New_York:20221211T090000
DTSTAMP:20260419T080922
CREATED:20221205T190158Z
LAST-MODIFIED:20230110T194656Z
UID:10745-1670745600-1670749200@www.rocklyncap.com
SUMMARY:Coffee & Conversation @ Clubhouse
DESCRIPTION:Join your fellow campers for coffee @ the Clubhouse
URL:https://www.rocklyncap.com/event/coffee-conversation-clubhouse-6/
END:VEVENT
BEGIN:VEVENT
DTSTART;TZID=America/New_York:20221210T170000
DTEND;TZID=America/New_York:20221210T183000
DTSTAMP:20260419T080922
CREATED:20221205T190158Z
LAST-MODIFIED:20230110T194656Z
UID:10744-1670691600-1670697000@www.rocklyncap.com
SUMMARY:Fireside Chat
DESCRIPTION:
URL:https://www.rocklyncap.com/event/fireside-chat-6/
END:VEVENT
BEGIN:VEVENT
DTSTART;TZID=America/New_York:20221210T120000
DTEND;TZID=America/New_York:20221210T130000
DTSTAMP:20260419T080922
CREATED:20221205T190158Z
LAST-MODIFIED:20230110T194656Z
UID:10743-1670673600-1670677200@www.rocklyncap.com
SUMMARY:Hot Cocoa Bar & Holiday Cookies... Great Cookie Bake Off!
DESCRIPTION:Get out your favorite cookie recipe and show us what you’ve got!  All of Santa’s elves love sweet treats and will be judging for which guest can make the best holiday treats.  Bring a copy of your recipe so we can share it with our Champions Run Family! Prizes awarded!
URL:https://www.rocklyncap.com/event/hot-cocoa-bar-holiday-cookies-great-cookie-bake-off/
LOCATION:Tiki
END:VEVENT
BEGIN:VEVENT
DTSTART;TZID=America/New_York:20221210T083000
DTEND;TZID=America/New_York:20221210T090000
DTSTAMP:20260419T080922
CREATED:20221205T190158Z
LAST-MODIFIED:20230110T194655Z
UID:10740-1670661000-1670662800@www.rocklyncap.com
SUMMARY:Morning Move - Walking Club
DESCRIPTION:Meet @ the clubhouse to walk or bike with your fellow campers around the resort
URL:https://www.rocklyncap.com/event/morning-move-walking-club-6/
END:VEVENT
BEGIN:VEVENT
DTSTART;TZID=America/New_York:20221210T080000
DTEND;TZID=America/New_York:20221210T090000
DTSTAMP:20260419T080922
CREATED:20221205T190158Z
LAST-MODIFIED:20230110T194656Z
UID:10741-1670659200-1670662800@www.rocklyncap.com
SUMMARY:Coffee & Conversation @ Clubhouse
DESCRIPTION:Join your fellow campers for coffee @ the Clubhouse
URL:https://www.rocklyncap.com/event/coffee-conversation-clubhouse-5/
END:VEVENT
BEGIN:VEVENT
DTSTART;TZID=America/New_York:20221209T180000
DTEND;TZID=America/New_York:20221209T190000
DTSTAMP:20260419T080922
CREATED:20221205T190158Z
LAST-MODIFIED:20230110T194655Z
UID:10739-1670608800-1670612400@www.rocklyncap.com
SUMMARY:Smores @ Firepits
DESCRIPTION:
URL:https://www.rocklyncap.com/event/smores-firepits/
END:VEVENT
BEGIN:VEVENT
DTSTART;TZID=America/New_York:20221209T170000
DTEND;TZID=America/New_York:20221209T183000
DTSTAMP:20260419T080922
CREATED:20221205T190157Z
LAST-MODIFIED:20230110T194655Z
UID:10738-1670605200-1670610600@www.rocklyncap.com
SUMMARY:Fireside Chat
DESCRIPTION:
URL:https://www.rocklyncap.com/event/fireside-chat-5/
END:VEVENT
END:VCALENDAR