BEGIN:VCALENDAR
VERSION:2.0
PRODID:-//Rocklyn Cap - ECPv6.15.20//NONSGML v1.0//EN
CALSCALE:GREGORIAN
METHOD:PUBLISH
X-WR-CALNAME:Rocklyn Cap
X-ORIGINAL-URL:https://www.rocklyncap.com
X-WR-CALDESC:Events for Rocklyn Cap
REFRESH-INTERVAL;VALUE=DURATION:PT1H
X-Robots-Tag:noindex
X-PUBLISHED-TTL:PT1H
BEGIN:VTIMEZONE
TZID:America/New_York
BEGIN:DAYLIGHT
TZOFFSETFROM:-0500
TZOFFSETTO:-0400
TZNAME:EDT
DTSTART:20210314T070000
END:DAYLIGHT
BEGIN:STANDARD
TZOFFSETFROM:-0400
TZOFFSETTO:-0500
TZNAME:EST
DTSTART:20211107T060000
END:STANDARD
BEGIN:DAYLIGHT
TZOFFSETFROM:-0500
TZOFFSETTO:-0400
TZNAME:EDT
DTSTART:20220313T070000
END:DAYLIGHT
BEGIN:STANDARD
TZOFFSETFROM:-0400
TZOFFSETTO:-0500
TZNAME:EST
DTSTART:20221106T060000
END:STANDARD
BEGIN:DAYLIGHT
TZOFFSETFROM:-0500
TZOFFSETTO:-0400
TZNAME:EDT
DTSTART:20230312T070000
END:DAYLIGHT
BEGIN:STANDARD
TZOFFSETFROM:-0400
TZOFFSETTO:-0500
TZNAME:EST
DTSTART:20231105T060000
END:STANDARD
END:VTIMEZONE
BEGIN:VEVENT
DTSTART;TZID=America/New_York:20221207T110000
DTEND;TZID=America/New_York:20221207T120000
DTSTAMP:20260419T145604
CREATED:20221205T190155Z
LAST-MODIFIED:20230110T194654Z
UID:10720-1670410800-1670414400@www.rocklyncap.com
SUMMARY:Adult Coloring Friends
DESCRIPTION:Bring whatever project you are working on or find a coloring page in our collection.  Meet new friends and relax coloring!
URL:https://www.rocklyncap.com/event/adult-coloring-friends/
LOCATION:Clubhouse
END:VEVENT
BEGIN:VEVENT
DTSTART;TZID=America/New_York:20221207T094500
DTEND;TZID=America/New_York:20221207T103000
DTSTAMP:20260419T145604
CREATED:20221205T190155Z
LAST-MODIFIED:20230110T194653Z
UID:10718-1670406300-1670409000@www.rocklyncap.com
SUMMARY:Guest led exercise group @ clubhouse
DESCRIPTION:Iris will lead some type of exercise from water aerobics to chair aerobics
URL:https://www.rocklyncap.com/event/guest-led-exercise-group-clubhouse/
END:VEVENT
BEGIN:VEVENT
DTSTART;TZID=America/New_York:20221207T090000
DTEND;TZID=America/New_York:20221207T110000
DTSTAMP:20260419T145604
CREATED:20221205T190155Z
LAST-MODIFIED:20230110T194654Z
UID:10721-1670403600-1670410800@www.rocklyncap.com
SUMMARY:Pickleball - open court
DESCRIPTION:Join your fellow pickle ballers at the courts. Beginners welcome.
URL:https://www.rocklyncap.com/event/pickleball-open-court-3/
END:VEVENT
BEGIN:VEVENT
DTSTART;TZID=America/New_York:20221207T083000
DTEND;TZID=America/New_York:20221207T090000
DTSTAMP:20260419T145604
CREATED:20221205T190155Z
LAST-MODIFIED:20230110T194653Z
UID:10715-1670401800-1670403600@www.rocklyncap.com
SUMMARY:Morning Move - Walking Club
DESCRIPTION:Meet @ the clubhouse to walk or bike with your fellow campers around the resort
URL:https://www.rocklyncap.com/event/morning-move-walking-club-3/
END:VEVENT
BEGIN:VEVENT
DTSTART;TZID=America/New_York:20221207T080000
DTEND;TZID=America/New_York:20221207T090000
DTSTAMP:20260419T145604
CREATED:20221205T190155Z
LAST-MODIFIED:20230110T194653Z
UID:10717-1670400000-1670403600@www.rocklyncap.com
SUMMARY:Coffee & Conversation @ Clubhouse
DESCRIPTION:Join your fellow campers for coffee @ the Clubhouse
URL:https://www.rocklyncap.com/event/coffee-conversation-clubhouse-2/
END:VEVENT
BEGIN:VEVENT
DTSTART;TZID=America/New_York:20221206T183000
DTEND;TZID=America/New_York:20221206T203000
DTSTAMP:20260419T145604
CREATED:20221205T190155Z
LAST-MODIFIED:20221205T190155Z
UID:10714-1670351400-1670358600@www.rocklyncap.com
SUMMARY:Poker Night @ Clubhouse
DESCRIPTION:
URL:https://www.rocklyncap.com/event/poker-night-clubhouse-2/
END:VEVENT
BEGIN:VEVENT
DTSTART;TZID=America/New_York:20221206T183000
DTEND;TZID=America/New_York:20221206T203000
DTSTAMP:20260419T145604
CREATED:20221205T190155Z
LAST-MODIFIED:20221205T190155Z
UID:10716-1670351400-1670358600@www.rocklyncap.com
SUMMARY:Guest Speaker Series - STRETCH ZONE - Aaron Jerrell
DESCRIPTION:STRETCH ZONE – Stretch Work Play Repeat.\nWHAT IS PRACTITIONER-ASSISTED STRETCHING\nDifferent from stretching at home\, practitioner-assisted stretching is a personalized routine performed by trained practitioners. Using our patented strapping system and proprietary tables to position\, stabilize and isolate muscles\, our certified staff delivers a life-changing stretch experience to help you move efficiently and effortlessly. Simply put\, we do all the work\, you get all the benefits.
URL:https://www.rocklyncap.com/event/guest-speaker-series-stretch-zone-aaron-jerrell-2/
END:VEVENT
BEGIN:VEVENT
DTSTART;TZID=America/New_York:20221206T183000
DTEND;TZID=America/New_York:20221206T203000
DTSTAMP:20260419T145604
CREATED:20221205T190154Z
LAST-MODIFIED:20221205T190154Z
UID:10706-1670351400-1670358600@www.rocklyncap.com
SUMMARY:Guest Speaker Series - STRETCH ZONE - Aaron Jerrell
DESCRIPTION:STRETCH ZONE – Stretch Work Play Repeat.\nWHAT IS PRACTITIONER-ASSISTED STRETCHING\nDifferent from stretching at home\, practitioner-assisted stretching is a personalized routine performed by trained practitioners. Using our patented strapping system and proprietary tables to position\, stabilize and isolate muscles\, our certified staff delivers a life-changing stretch experience to help you move efficiently and effortlessly. Simply put\, we do all the work\, you get all the benefits.
URL:https://www.rocklyncap.com/event/guest-speaker-series-stretch-zone-aaron-jerrell/
END:VEVENT
BEGIN:VEVENT
DTSTART;TZID=America/New_York:20221206T170000
DTEND;TZID=America/New_York:20221206T183000
DTSTAMP:20260419T145604
CREATED:20221205T190155Z
LAST-MODIFIED:20230110T194653Z
UID:10713-1670346000-1670351400@www.rocklyncap.com
SUMMARY:Fireside Chat
DESCRIPTION:
URL:https://www.rocklyncap.com/event/fireside-chat-2/
END:VEVENT
BEGIN:VEVENT
DTSTART;TZID=America/New_York:20221206T110000
DTEND;TZID=America/New_York:20221206T120000
DTSTAMP:20260419T145604
CREATED:20221205T190155Z
LAST-MODIFIED:20230110T194653Z
UID:10711-1670324400-1670328000@www.rocklyncap.com
SUMMARY:Cocktails and Coloring
DESCRIPTION:Bring your bevie of choice\, your coloring books and supplies and lets have some fun!  We have some supplies to share also!
URL:https://www.rocklyncap.com/event/craft-club-clubhouse/
LOCATION:Clubhouse
END:VEVENT
BEGIN:VEVENT
DTSTART;TZID=America/New_York:20221206T090000
DTEND;TZID=America/New_York:20221206T110000
DTSTAMP:20260419T145604
CREATED:20221205T190155Z
LAST-MODIFIED:20221205T190155Z
UID:10710-1670317200-1670324400@www.rocklyncap.com
SUMMARY:Pickleball - open court
DESCRIPTION:Join your fellow pickle ballers at the courts. Beginners welcome.
URL:https://www.rocklyncap.com/event/pickleball-open-court-2/
END:VEVENT
BEGIN:VEVENT
DTSTART;TZID=America/New_York:20221206T090000
DTEND;TZID=America/New_York:20221206T110000
DTSTAMP:20260419T145604
CREATED:20221205T190154Z
LAST-MODIFIED:20230110T194653Z
UID:10698-1670317200-1670324400@www.rocklyncap.com
SUMMARY:Pickleball - open court
DESCRIPTION:Join your fellow pickle ballers at the courts. Beginners welcome.
URL:https://www.rocklyncap.com/event/pickleball-open-court/
END:VEVENT
BEGIN:VEVENT
DTSTART;TZID=America/New_York:20221206T083000
DTEND;TZID=America/New_York:20221206T090000
DTSTAMP:20260419T145604
CREATED:20221205T190155Z
LAST-MODIFIED:20221205T190155Z
UID:10712-1670315400-1670317200@www.rocklyncap.com
SUMMARY:Morning Move - Walking Club
DESCRIPTION:Meet @ the clubhouse to walk or bike with your fellow campers around the resort
URL:https://www.rocklyncap.com/event/morning-move-walking-club-2/
END:VEVENT
BEGIN:VEVENT
DTSTART;TZID=America/New_York:20221206T083000
DTEND;TZID=America/New_York:20221206T090000
DTSTAMP:20260419T145604
CREATED:20221205T190154Z
LAST-MODIFIED:20230110T194653Z
UID:10701-1670315400-1670317200@www.rocklyncap.com
SUMMARY:Morning Move - Walking Club
DESCRIPTION:Meet @ the clubhouse to walk or bike with your fellow campers around the resort
URL:https://www.rocklyncap.com/event/morning-move-walking-club/
END:VEVENT
BEGIN:VEVENT
DTSTART;TZID=America/New_York:20221206T080000
DTEND;TZID=America/New_York:20221206T090000
DTSTAMP:20260419T145604
CREATED:20221205T190154Z
LAST-MODIFIED:20230110T194653Z
UID:10697-1670313600-1670317200@www.rocklyncap.com
SUMMARY:Coffee & Conversation @ Clubhouse
DESCRIPTION:Join your fellow campers for coffee @ the Clubhouse
URL:https://www.rocklyncap.com/event/coffee-conversation-clubhouse/
END:VEVENT
BEGIN:VEVENT
DTSTART;VALUE=DATE:20221206
DTEND;VALUE=DATE:20221207
DTSTAMP:20260419T145604
CREATED:20221205T190155Z
LAST-MODIFIED:20221205T190155Z
UID:10719-1670284800-1670371199@www.rocklyncap.com
SUMMARY:Etherridge Cattle Company 2:30 - 3:30 pm Fresh Meat Company
DESCRIPTION:
URL:https://www.rocklyncap.com/event/etherridge-cattle-company-230-330-pm-fresh-meat-company-2/
END:VEVENT
BEGIN:VEVENT
DTSTART;VALUE=DATE:20221206
DTEND;VALUE=DATE:20221207
DTSTAMP:20260419T145604
CREATED:20221205T190155Z
LAST-MODIFIED:20230110T194653Z
UID:10709-1670284800-1670371199@www.rocklyncap.com
SUMMARY:Etherridge Cattle Company 2:30 - 3:30 pm Fresh Meat Company
DESCRIPTION:
URL:https://www.rocklyncap.com/event/etherridge-cattle-company-230-330-pm-fresh-meat-company/
END:VEVENT
BEGIN:VEVENT
DTSTART;TZID=America/New_York:20221205T183000
DTEND;TZID=America/New_York:20221205T203000
DTSTAMP:20260419T145604
CREATED:20221205T190154Z
LAST-MODIFIED:20230110T194652Z
UID:10695-1670265000-1670272200@www.rocklyncap.com
SUMMARY:CARD Game Night
DESCRIPTION:Come join us with some fun board games or play your favorite card games!
URL:https://www.rocklyncap.com/event/fun-card-board-games-clubhouse/
LOCATION:Clubhouse
END:VEVENT
BEGIN:VEVENT
DTSTART;TZID=America/New_York:20221205T170000
DTEND;TZID=America/New_York:20221205T183000
DTSTAMP:20260419T145604
CREATED:20221205T190154Z
LAST-MODIFIED:20230110T194653Z
UID:10696-1670259600-1670265000@www.rocklyncap.com
SUMMARY:Fireside Chat
DESCRIPTION:
URL:https://www.rocklyncap.com/event/fireside-chat/
END:VEVENT
BEGIN:VEVENT
DTSTART;TZID=America/New_York:20221205T170000
DTEND;TZID=America/New_York:20221205T180000
DTSTAMP:20260419T145604
CREATED:20221205T190154Z
LAST-MODIFIED:20230110T194652Z
UID:10693-1670259600-1670263200@www.rocklyncap.com
SUMMARY:Hot Dog Roast @ Firepits
DESCRIPTION:Meet new friends and roast a hot dog over the fire.  We provide the hot dog and all the fixings.  By Donation.  All donations will go to our Charity K9’s for Warriors!
URL:https://www.rocklyncap.com/event/hot-dog-roast-firepits/
LOCATION:Firepits
END:VEVENT
BEGIN:VEVENT
DTSTART;TZID=America/New_York:20221205T110000
DTEND;TZID=America/New_York:20221205T120000
DTSTAMP:20260419T145604
CREATED:20230110T194652Z
LAST-MODIFIED:20230110T194652Z
UID:11413-1670238000-1670241600@www.rocklyncap.com
SUMMARY:Craft Club @ Clubhouse
DESCRIPTION:Bring whatever project you are working on. Show off your crafting skills and inspire others!
URL:https://www.rocklyncap.com/event/craft-club-clubhouse-37/
END:VEVENT
BEGIN:VEVENT
DTSTART;TZID=America/New_York:20221205T094500
DTEND;TZID=America/New_York:20221205T103000
DTSTAMP:20260419T145604
CREATED:20230110T194652Z
LAST-MODIFIED:20230110T194652Z
UID:11410-1670233500-1670236200@www.rocklyncap.com
SUMMARY:Guest led exercise group @ clubhouse
DESCRIPTION:Iris will lead some type of exercise from water aerobics to chair aerobics
URL:https://www.rocklyncap.com/event/guest-led-exercise-group-clubhouse-20/
END:VEVENT
BEGIN:VEVENT
DTSTART;TZID=America/New_York:20221205T090000
DTEND;TZID=America/New_York:20221205T110000
DTSTAMP:20260419T145604
CREATED:20230110T194652Z
LAST-MODIFIED:20230110T194652Z
UID:11411-1670230800-1670238000@www.rocklyncap.com
SUMMARY:Pickleball - open court
DESCRIPTION:Join your fellow pickle ballers at the courts. Beginners welcome.
URL:https://www.rocklyncap.com/event/pickleball-open-court-39/
END:VEVENT
BEGIN:VEVENT
DTSTART;TZID=America/New_York:20221205T083000
DTEND;TZID=America/New_York:20221205T090000
DTSTAMP:20260419T145604
CREATED:20230110T194652Z
LAST-MODIFIED:20230110T194652Z
UID:11412-1670229000-1670230800@www.rocklyncap.com
SUMMARY:Morning Move - Walking Club
DESCRIPTION:Meet @ the clubhouse to walk or bike with your fellow campers around the resort
URL:https://www.rocklyncap.com/event/morning-move-walking-club-53/
END:VEVENT
BEGIN:VEVENT
DTSTART;TZID=America/New_York:20221205T080000
DTEND;TZID=America/New_York:20221205T090000
DTSTAMP:20260419T145604
CREATED:20230110T194652Z
LAST-MODIFIED:20230110T194652Z
UID:11409-1670227200-1670230800@www.rocklyncap.com
SUMMARY:Coffee & Conversation @ Clubhouse
DESCRIPTION:Join your fellow campers for coffee @ the Clubhouse
URL:https://www.rocklyncap.com/event/coffee-conversation-clubhouse-52/
END:VEVENT
BEGIN:VEVENT
DTSTART;TZID=America/New_York:20221204T170000
DTEND;TZID=America/New_York:20221204T183000
DTSTAMP:20260419T145604
CREATED:20230110T194652Z
LAST-MODIFIED:20230110T194652Z
UID:11408-1670173200-1670178600@www.rocklyncap.com
SUMMARY:Bring your Own Instrument- MUSIC JAM
DESCRIPTION:Bring your own Instrument and jam with your fellow campers around the firepits!
URL:https://www.rocklyncap.com/event/bring-your-own-instrument-music-jam-7/
LOCATION:Campfires
END:VEVENT
BEGIN:VEVENT
DTSTART;TZID=America/New_York:20221204T083000
DTEND;TZID=America/New_York:20221204T090000
DTSTAMP:20260419T145604
CREATED:20230110T194651Z
LAST-MODIFIED:20230110T194651Z
UID:11406-1670142600-1670144400@www.rocklyncap.com
SUMMARY:Morning Move - Walking Club
DESCRIPTION:Meet @ the clubhouse to walk or bike with your fellow campers around the resort
URL:https://www.rocklyncap.com/event/morning-move-walking-club-52/
END:VEVENT
BEGIN:VEVENT
DTSTART;TZID=America/New_York:20221204T080000
DTEND;TZID=America/New_York:20221204T090000
DTSTAMP:20260419T145604
CREATED:20230110T194651Z
LAST-MODIFIED:20230110T194651Z
UID:11407-1670140800-1670144400@www.rocklyncap.com
SUMMARY:Coffee & Conversation @ Clubhouse
DESCRIPTION:Join your fellow campers for coffee @ the Clubhouse
URL:https://www.rocklyncap.com/event/coffee-conversation-clubhouse-51/
END:VEVENT
BEGIN:VEVENT
DTSTART;TZID=America/New_York:20221203T170000
DTEND;TZID=America/New_York:20221203T183000
DTSTAMP:20260419T145604
CREATED:20230110T194651Z
LAST-MODIFIED:20230110T194651Z
UID:11405-1670086800-1670092200@www.rocklyncap.com
SUMMARY:Fireside Chat
DESCRIPTION:
URL:https://www.rocklyncap.com/event/fireside-chat-45/
END:VEVENT
BEGIN:VEVENT
DTSTART;TZID=America/New_York:20221203T120000
DTEND;TZID=America/New_York:20221203T160000
DTSTAMP:20260419T145604
CREATED:20230110T194651Z
LAST-MODIFIED:20230110T194651Z
UID:11404-1670068800-1670083200@www.rocklyncap.com
SUMMARY:Winter Welcome Pool side Mixer
DESCRIPTION:Signature Drink – Chocolate Fondue w/fruit – Music
URL:https://www.rocklyncap.com/event/winter-welcome-pool-side-mixer/
END:VEVENT
END:VCALENDAR