BEGIN:VCALENDAR
VERSION:2.0
PRODID:-//Rocklyn Cap - ECPv6.15.20//NONSGML v1.0//EN
CALSCALE:GREGORIAN
METHOD:PUBLISH
X-WR-CALNAME:Rocklyn Cap
X-ORIGINAL-URL:https://www.rocklyncap.com
X-WR-CALDESC:Events for Rocklyn Cap
REFRESH-INTERVAL;VALUE=DURATION:PT1H
X-Robots-Tag:noindex
X-PUBLISHED-TTL:PT1H
BEGIN:VTIMEZONE
TZID:America/New_York
BEGIN:DAYLIGHT
TZOFFSETFROM:-0500
TZOFFSETTO:-0400
TZNAME:EDT
DTSTART:20210314T070000
END:DAYLIGHT
BEGIN:STANDARD
TZOFFSETFROM:-0400
TZOFFSETTO:-0500
TZNAME:EST
DTSTART:20211107T060000
END:STANDARD
BEGIN:DAYLIGHT
TZOFFSETFROM:-0500
TZOFFSETTO:-0400
TZNAME:EDT
DTSTART:20220313T070000
END:DAYLIGHT
BEGIN:STANDARD
TZOFFSETFROM:-0400
TZOFFSETTO:-0500
TZNAME:EST
DTSTART:20221106T060000
END:STANDARD
BEGIN:DAYLIGHT
TZOFFSETFROM:-0500
TZOFFSETTO:-0400
TZNAME:EDT
DTSTART:20230312T070000
END:DAYLIGHT
BEGIN:STANDARD
TZOFFSETFROM:-0400
TZOFFSETTO:-0500
TZNAME:EST
DTSTART:20231105T060000
END:STANDARD
BEGIN:DAYLIGHT
TZOFFSETFROM:-0500
TZOFFSETTO:-0400
TZNAME:EDT
DTSTART:20240310T070000
END:DAYLIGHT
BEGIN:STANDARD
TZOFFSETFROM:-0400
TZOFFSETTO:-0500
TZNAME:EST
DTSTART:20241103T060000
END:STANDARD
END:VTIMEZONE
BEGIN:VEVENT
DTSTART;TZID=America/New_York:20221202T090000
DTEND;TZID=America/New_York:20221202T110000
DTSTAMP:20260419T201318
CREATED:20230110T194650Z
LAST-MODIFIED:20230110T194650Z
UID:11397-1669971600-1669978800@www.rocklyncap.com
SUMMARY:Pickleball - open court
DESCRIPTION:Join your fellow pickle ballers at the courts. Beginners welcome.
URL:https://www.rocklyncap.com/event/pickleball-open-court-38/
END:VEVENT
BEGIN:VEVENT
DTSTART;TZID=America/New_York:20221202T083000
DTEND;TZID=America/New_York:20221202T090000
DTSTAMP:20260419T201318
CREATED:20230110T194651Z
LAST-MODIFIED:20230110T194651Z
UID:11398-1669969800-1669971600@www.rocklyncap.com
SUMMARY:Morning Move - Walking Club
DESCRIPTION:Meet @ the clubhouse to walk or bike with your fellow campers around the resort
URL:https://www.rocklyncap.com/event/morning-move-walking-club-50/
END:VEVENT
BEGIN:VEVENT
DTSTART;TZID=America/New_York:20221202T080000
DTEND;TZID=America/New_York:20221202T090000
DTSTAMP:20260419T201318
CREATED:20230110T194650Z
LAST-MODIFIED:20230110T194650Z
UID:11395-1669968000-1669971600@www.rocklyncap.com
SUMMARY:Coffee & Conversation @ Clubhouse
DESCRIPTION:Join your fellow campers for coffee @ the Clubhouse
URL:https://www.rocklyncap.com/event/coffee-conversation-clubhouse-49/
END:VEVENT
BEGIN:VEVENT
DTSTART;TZID=America/New_York:20221201T184500
DTEND;TZID=America/New_York:20221201T203000
DTSTAMP:20260419T201318
CREATED:20230110T194650Z
LAST-MODIFIED:20230110T194650Z
UID:11394-1669920300-1669926600@www.rocklyncap.com
SUMMARY:Bingo @ 7 pm Clubhouse
DESCRIPTION:Enjoy Supper at the Food Truck Venue\, then come join us for BINGO!  Games start at 7PM.  Come spin our Prize wheel!  Prizes change weekly!
URL:https://www.rocklyncap.com/event/bingo-7-pm-clubhouse-7/
LOCATION:Clubhouse
END:VEVENT
BEGIN:VEVENT
DTSTART;TZID=America/New_York:20221201T170000
DTEND;TZID=America/New_York:20221201T183000
DTSTAMP:20260419T201318
CREATED:20230110T194650Z
LAST-MODIFIED:20230110T194650Z
UID:11393-1669914000-1669919400@www.rocklyncap.com
SUMMARY:Fireside Chat
DESCRIPTION:
URL:https://www.rocklyncap.com/event/fireside-chat-43/
END:VEVENT
BEGIN:VEVENT
DTSTART;TZID=America/New_York:20221201T110000
DTEND;TZID=America/New_York:20221201T120000
DTSTAMP:20260419T201318
CREATED:20230110T194650Z
LAST-MODIFIED:20230110T194650Z
UID:11392-1669892400-1669896000@www.rocklyncap.com
SUMMARY:Craft Club @ Clubhouse
DESCRIPTION:Bring whatever project you are working on. Show off your crafting skills and inspire others!
URL:https://www.rocklyncap.com/event/craft-club-clubhouse-35/
END:VEVENT
BEGIN:VEVENT
DTSTART;TZID=America/New_York:20221201T090000
DTEND;TZID=America/New_York:20221201T110000
DTSTAMP:20260419T201318
CREATED:20230110T194649Z
LAST-MODIFIED:20230110T194649Z
UID:11388-1669885200-1669892400@www.rocklyncap.com
SUMMARY:Pickleball - open court
DESCRIPTION:Join your fellow pickle ballers at the courts. Beginners welcome.
URL:https://www.rocklyncap.com/event/pickleball-open-court-37/
END:VEVENT
BEGIN:VEVENT
DTSTART;TZID=America/New_York:20221201T083000
DTEND;TZID=America/New_York:20221201T090000
DTSTAMP:20260419T201318
CREATED:20230110T194650Z
LAST-MODIFIED:20230110T194650Z
UID:11391-1669883400-1669885200@www.rocklyncap.com
SUMMARY:Morning Move - Walking Club
DESCRIPTION:Meet @ the clubhouse to walk or bike with your fellow campers around the resort
URL:https://www.rocklyncap.com/event/morning-move-walking-club-49/
END:VEVENT
BEGIN:VEVENT
DTSTART;TZID=America/New_York:20221201T080000
DTEND;TZID=America/New_York:20221201T090000
DTSTAMP:20260419T201318
CREATED:20230110T194650Z
LAST-MODIFIED:20230110T194650Z
UID:11390-1669881600-1669885200@www.rocklyncap.com
SUMMARY:Coffee & Conversation @ Clubhouse
DESCRIPTION:Join your fellow campers for coffee @ the Clubhouse
URL:https://www.rocklyncap.com/event/coffee-conversation-clubhouse-48/
END:VEVENT
BEGIN:VEVENT
DTSTART;VALUE=DATE:20221201
DTEND;VALUE=DATE:20221202
DTSTAMP:20260419T201318
CREATED:20230110T194649Z
LAST-MODIFIED:20230110T194649Z
UID:11387-1669852800-1669939199@www.rocklyncap.com
SUMMARY:Kona Ice truck will be there from 5:45 to 6:15
DESCRIPTION:
URL:https://www.rocklyncap.com/event/kona-ice-truck-will-be-there-from-545-to-615-6/
END:VEVENT
BEGIN:VEVENT
DTSTART;VALUE=DATE:20221201
DTEND;VALUE=DATE:20221202
DTSTAMP:20260419T201318
CREATED:20230110T194649Z
LAST-MODIFIED:20230110T194649Z
UID:11389-1669852800-1669939199@www.rocklyncap.com
SUMMARY:Happy Camper Snack Shack 4-7
DESCRIPTION:
URL:https://www.rocklyncap.com/event/happy-camper-snack-shack-4-7/
END:VEVENT
BEGIN:VEVENT
DTSTART;TZID=America/New_York:20221130T170000
DTEND;TZID=America/New_York:20221130T183000
DTSTAMP:20260419T201318
CREATED:20230110T194649Z
LAST-MODIFIED:20230110T194649Z
UID:11384-1669827600-1669833000@www.rocklyncap.com
SUMMARY:Fireside Chat
DESCRIPTION:
URL:https://www.rocklyncap.com/event/fireside-chat-42/
END:VEVENT
BEGIN:VEVENT
DTSTART;TZID=America/New_York:20221130T110000
DTEND;TZID=America/New_York:20221130T120000
DTSTAMP:20260419T201318
CREATED:20230110T194649Z
LAST-MODIFIED:20230110T194649Z
UID:11386-1669806000-1669809600@www.rocklyncap.com
SUMMARY:Craft Club @ Clubhouse
DESCRIPTION:Bring whatever project you are working on. Show off your crafting skills and inspire others!
URL:https://www.rocklyncap.com/event/craft-club-clubhouse-34/
END:VEVENT
BEGIN:VEVENT
DTSTART;TZID=America/New_York:20221130T090000
DTEND;TZID=America/New_York:20221130T110000
DTSTAMP:20260419T201318
CREATED:20230110T194649Z
LAST-MODIFIED:20230110T194649Z
UID:11382-1669798800-1669806000@www.rocklyncap.com
SUMMARY:Pickleball - open court
DESCRIPTION:Join your fellow pickle ballers at the courts. Beginners welcome.
URL:https://www.rocklyncap.com/event/pickleball-open-court-36/
END:VEVENT
BEGIN:VEVENT
DTSTART;TZID=America/New_York:20221130T083000
DTEND;TZID=America/New_York:20221130T090000
DTSTAMP:20260419T201318
CREATED:20230110T194649Z
LAST-MODIFIED:20230110T194649Z
UID:11383-1669797000-1669798800@www.rocklyncap.com
SUMMARY:Morning Move - Walking Club
DESCRIPTION:Meet @ the clubhouse to walk or bike with your fellow campers around the resort
URL:https://www.rocklyncap.com/event/morning-move-walking-club-48/
END:VEVENT
BEGIN:VEVENT
DTSTART;TZID=America/New_York:20221130T080000
DTEND;TZID=America/New_York:20221130T090000
DTSTAMP:20260419T201318
CREATED:20230110T194649Z
LAST-MODIFIED:20230110T194649Z
UID:11381-1669795200-1669798800@www.rocklyncap.com
SUMMARY:Coffee & Conversation @ Clubhouse
DESCRIPTION:Join your fellow campers for coffee @ the Clubhouse
URL:https://www.rocklyncap.com/event/coffee-conversation-clubhouse-47/
END:VEVENT
BEGIN:VEVENT
DTSTART;TZID=America/New_York:20221129T170000
DTEND;TZID=America/New_York:20221129T183000
DTSTAMP:20260419T201318
CREATED:20230110T194648Z
LAST-MODIFIED:20230110T194648Z
UID:11380-1669741200-1669746600@www.rocklyncap.com
SUMMARY:Fireside Chat
DESCRIPTION:
URL:https://www.rocklyncap.com/event/fireside-chat-41/
END:VEVENT
BEGIN:VEVENT
DTSTART;TZID=America/New_York:20221129T110000
DTEND;TZID=America/New_York:20221129T120000
DTSTAMP:20260419T201318
CREATED:20230110T194648Z
LAST-MODIFIED:20230110T194711Z
UID:11375-1669719600-1669723200@www.rocklyncap.com
SUMMARY:Craft Club @ Clubhouse
DESCRIPTION:Bring whatever project you are working on. Show off your crafting skills and inspire others!
URL:https://www.rocklyncap.com/event/craft-club-clubhouse-33/
END:VEVENT
BEGIN:VEVENT
DTSTART;TZID=America/New_York:20221129T090000
DTEND;TZID=America/New_York:20221129T110000
DTSTAMP:20260419T201318
CREATED:20230110T194648Z
LAST-MODIFIED:20230110T194648Z
UID:11376-1669712400-1669719600@www.rocklyncap.com
SUMMARY:Pickleball - open court
DESCRIPTION:Join your fellow pickle ballers at the courts. Beginners welcome.
URL:https://www.rocklyncap.com/event/pickleball-open-court-35/
END:VEVENT
BEGIN:VEVENT
DTSTART;TZID=America/New_York:20221129T083000
DTEND;TZID=America/New_York:20221129T090000
DTSTAMP:20260419T201318
CREATED:20230110T194648Z
LAST-MODIFIED:20230110T194648Z
UID:11379-1669710600-1669712400@www.rocklyncap.com
SUMMARY:Morning Move - Walking Club
DESCRIPTION:Meet @ the clubhouse to walk or bike with your fellow campers around the resort
URL:https://www.rocklyncap.com/event/morning-move-walking-club-47/
END:VEVENT
BEGIN:VEVENT
DTSTART;TZID=America/New_York:20221129T080000
DTEND;TZID=America/New_York:20221129T090000
DTSTAMP:20260419T201318
CREATED:20230110T194648Z
LAST-MODIFIED:20230110T194648Z
UID:11378-1669708800-1669712400@www.rocklyncap.com
SUMMARY:Coffee & Conversation @ Clubhouse
DESCRIPTION:Join your fellow campers for coffee @ the Clubhouse
URL:https://www.rocklyncap.com/event/coffee-conversation-clubhouse-46/
END:VEVENT
BEGIN:VEVENT
DTSTART;VALUE=DATE:20221129
DTEND;VALUE=DATE:20221130
DTSTAMP:20260419T201318
CREATED:20230110T194648Z
LAST-MODIFIED:20230110T194648Z
UID:11377-1669680000-1669766399@www.rocklyncap.com
SUMMARY:Etherridge Cattle Company 2:30 - 3:30 pm Fresh Meat Company
DESCRIPTION:
URL:https://www.rocklyncap.com/event/etherridge-cattle-company-230-330-pm-fresh-meat-company-12/
END:VEVENT
BEGIN:VEVENT
DTSTART;TZID=America/New_York:20221128T183000
DTEND;TZID=America/New_York:20221128T203000
DTSTAMP:20260419T201318
CREATED:20230110T194648Z
LAST-MODIFIED:20230110T194711Z
UID:11374-1669660200-1669667400@www.rocklyncap.com
SUMMARY:CARD Game Night
DESCRIPTION:Calling all Poker\, Euchre\, Bridge\, Spades\, Left Right Center Card players… Tonight is your night! Stop by the Campfires to Roast a hot dog\, then head over to the Clubhouse for a fun night of cards.
URL:https://www.rocklyncap.com/event/card-game-night/
LOCATION:Clubhouse
END:VEVENT
BEGIN:VEVENT
DTSTART;TZID=America/New_York:20221128T170000
DTEND;TZID=America/New_York:20221128T183000
DTSTAMP:20260419T201318
CREATED:20230110T194648Z
LAST-MODIFIED:20230110T194711Z
UID:11373-1669654800-1669660200@www.rocklyncap.com
SUMMARY:Fireside Chat
DESCRIPTION:
URL:https://www.rocklyncap.com/event/fireside-chat-40/
END:VEVENT
BEGIN:VEVENT
DTSTART;TZID=America/New_York:20221128T170000
DTEND;TZID=America/New_York:20221128T180000
DTSTAMP:20260419T201318
CREATED:20230110T194647Z
LAST-MODIFIED:20230110T194711Z
UID:11372-1669654800-1669658400@www.rocklyncap.com
SUMMARY:Hot Dog Roast @ Firepits
DESCRIPTION:Meet new friends and roast a hot dog over the fire.  We provide the hot dog and all the fixings.  By Donation.  All donations will go to our Charity K9’s for Warriors!
URL:https://www.rocklyncap.com/event/hot-dog-roast-firepits-5/
LOCATION:Firepits
END:VEVENT
BEGIN:VEVENT
DTSTART;TZID=America/New_York:20221128T110000
DTEND;TZID=America/New_York:20221128T120000
DTSTAMP:20260419T201318
CREATED:20230110T194647Z
LAST-MODIFIED:20230110T194711Z
UID:11371-1669633200-1669636800@www.rocklyncap.com
SUMMARY:Craft Club @ Clubhouse
DESCRIPTION:Bring whatever project you are working on. Show off your crafting skills and inspire others!
URL:https://www.rocklyncap.com/event/craft-club-clubhouse-32/
END:VEVENT
BEGIN:VEVENT
DTSTART;TZID=America/New_York:20221128T090000
DTEND;TZID=America/New_York:20221128T110000
DTSTAMP:20260419T201318
CREATED:20230110T194647Z
LAST-MODIFIED:20230110T194711Z
UID:11370-1669626000-1669633200@www.rocklyncap.com
SUMMARY:Pickleball - open court
DESCRIPTION:Join your fellow pickle ballers at the courts. Beginners welcome.
URL:https://www.rocklyncap.com/event/pickleball-open-court-34/
END:VEVENT
BEGIN:VEVENT
DTSTART;TZID=America/New_York:20221128T083000
DTEND;TZID=America/New_York:20221128T090000
DTSTAMP:20260419T201318
CREATED:20230110T194647Z
LAST-MODIFIED:20230110T194710Z
UID:11369-1669624200-1669626000@www.rocklyncap.com
SUMMARY:Morning Move - Walking Club
DESCRIPTION:Meet @ the clubhouse to walk or bike with your fellow campers around the resort
URL:https://www.rocklyncap.com/event/morning-move-walking-club-46/
END:VEVENT
BEGIN:VEVENT
DTSTART;TZID=America/New_York:20221128T080000
DTEND;TZID=America/New_York:20221128T090000
DTSTAMP:20260419T201318
CREATED:20230110T194647Z
LAST-MODIFIED:20230110T194710Z
UID:11368-1669622400-1669626000@www.rocklyncap.com
SUMMARY:Coffee & Conversation @ Clubhouse
DESCRIPTION:Join your fellow campers for coffee @ the Clubhouse
URL:https://www.rocklyncap.com/event/coffee-conversation-clubhouse-45/
END:VEVENT
BEGIN:VEVENT
DTSTART;VALUE=DATE:20221128
DTEND;VALUE=DATE:20230102
DTSTAMP:20260419T201318
CREATED:20221205T190153Z
LAST-MODIFIED:20230110T194649Z
UID:10691-1669593600-1672617599@www.rocklyncap.com
SUMMARY:Decorate your site
DESCRIPTION:Show us your site decorations must not be in the grass though!
URL:https://www.rocklyncap.com/event/decorate-your-site-for-the-holidays/
END:VEVENT
END:VCALENDAR