BEGIN:VCALENDAR
VERSION:2.0
PRODID:-//Rocklyn Cap - ECPv6.15.20//NONSGML v1.0//EN
CALSCALE:GREGORIAN
METHOD:PUBLISH
X-ORIGINAL-URL:https://www.rocklyncap.com
X-WR-CALDESC:Events for Rocklyn Cap
REFRESH-INTERVAL;VALUE=DURATION:PT1H
X-Robots-Tag:noindex
X-PUBLISHED-TTL:PT1H
BEGIN:VTIMEZONE
TZID:America/New_York
BEGIN:DAYLIGHT
TZOFFSETFROM:-0500
TZOFFSETTO:-0400
TZNAME:EDT
DTSTART:20210314T070000
END:DAYLIGHT
BEGIN:STANDARD
TZOFFSETFROM:-0400
TZOFFSETTO:-0500
TZNAME:EST
DTSTART:20211107T060000
END:STANDARD
BEGIN:DAYLIGHT
TZOFFSETFROM:-0500
TZOFFSETTO:-0400
TZNAME:EDT
DTSTART:20220313T070000
END:DAYLIGHT
BEGIN:STANDARD
TZOFFSETFROM:-0400
TZOFFSETTO:-0500
TZNAME:EST
DTSTART:20221106T060000
END:STANDARD
BEGIN:DAYLIGHT
TZOFFSETFROM:-0500
TZOFFSETTO:-0400
TZNAME:EDT
DTSTART:20230312T070000
END:DAYLIGHT
BEGIN:STANDARD
TZOFFSETFROM:-0400
TZOFFSETTO:-0500
TZNAME:EST
DTSTART:20231105T060000
END:STANDARD
END:VTIMEZONE
BEGIN:VEVENT
DTSTART;VALUE=DATE:20221020
DTEND;VALUE=DATE:20221021
DTSTAMP:20260420T013451
CREATED:20230110T194646Z
LAST-MODIFIED:20230110T194657Z
UID:11361-1666224000-1666310399@www.rocklyncap.com
SUMMARY:Bubble N Biscuits Mobile Grooming
DESCRIPTION:
URL:https://www.rocklyncap.com/event/bubble-n-biscuits-mobile-grooming-2/
END:VEVENT
BEGIN:VEVENT
DTSTART;TZID=America/New_York:20221014T170000
DTEND;TZID=America/New_York:20221014T200000
DTSTAMP:20260420T013451
CREATED:20230110T194646Z
LAST-MODIFIED:20230110T194657Z
UID:11360-1665766800-1665777600@www.rocklyncap.com
SUMMARY:Aunt TT's Sweet Treats - CANCELLED 3 hours prior to arrival time stating sick
DESCRIPTION:
URL:https://www.rocklyncap.com/event/aunt-tts-sweet-treats-cancelled-3-hours-prior-to-arrival-time-stating-sick/
END:VEVENT
BEGIN:VEVENT
DTSTART;TZID=America/New_York:20221014T160000
DTEND;TZID=America/New_York:20221014T200000
DTSTAMP:20260420T013451
CREATED:20230110T194646Z
LAST-MODIFIED:20230110T194657Z
UID:11359-1665763200-1665777600@www.rocklyncap.com
SUMMARY:Country Boyz BBQ 4-8pm
DESCRIPTION:
URL:https://www.rocklyncap.com/event/country-boyz-bbq-4-8pm-2/
END:VEVENT
BEGIN:VEVENT
DTSTART;TZID=America/New_York:20221001T100000
DTEND;TZID=America/New_York:20221001T180000
DTSTAMP:20260420T013451
CREATED:20230110T194646Z
LAST-MODIFIED:20230110T194657Z
UID:11358-1664618400-1664647200@www.rocklyncap.com
SUMMARY:Sabor Colombiano 10-6 - CANCELLED DUE TO HURRICANE
DESCRIPTION:
URL:https://www.rocklyncap.com/event/sabor-colombiano-10-6-cancelled-due-to-hurricane/
END:VEVENT
BEGIN:VEVENT
DTSTART;VALUE=DATE:20220924
DTEND;VALUE=DATE:20220925
DTSTAMP:20260420T013451
CREATED:20230110T194646Z
LAST-MODIFIED:20230110T194657Z
UID:11357-1663977600-1664063999@www.rocklyncap.com
SUMMARY:Country Boyz BBQ 4-8pm
DESCRIPTION:
URL:https://www.rocklyncap.com/event/country-boyz-bbq-4-8pm/
END:VEVENT
BEGIN:VEVENT
DTSTART;VALUE=DATE:20220922
DTEND;VALUE=DATE:20220923
DTSTAMP:20260420T013451
CREATED:20230110T194646Z
LAST-MODIFIED:20230110T194657Z
UID:11356-1663804800-1663891199@www.rocklyncap.com
SUMMARY:Bubble N Biscuits Mobile Grooming
DESCRIPTION:
URL:https://www.rocklyncap.com/event/bubble-n-biscuits-mobile-grooming/
END:VEVENT
BEGIN:VEVENT
DTSTART;TZID=America/New_York:20220917T100000
DTEND;TZID=America/New_York:20220917T130000
DTSTAMP:20260420T013451
CREATED:20230110T194644Z
LAST-MODIFIED:20230110T194646Z
UID:11345-1663408800-1663419600@www.rocklyncap.com
SUMMARY:Red Wagon Produce 10-1
DESCRIPTION:
URL:https://www.rocklyncap.com/event/red-wagon-produce-10-1-3/
END:VEVENT
BEGIN:VEVENT
DTSTART;TZID=America/New_York:20220910T100000
DTEND;TZID=America/New_York:20220910T130000
DTSTAMP:20260420T013451
CREATED:20230110T194644Z
LAST-MODIFIED:20230110T194646Z
UID:11344-1662804000-1662814800@www.rocklyncap.com
SUMMARY:Red Wagon Produce 10-1
DESCRIPTION:
URL:https://www.rocklyncap.com/event/red-wagon-produce-10-1-2/
END:VEVENT
BEGIN:VEVENT
DTSTART;VALUE=DATE:20220904
DTEND;VALUE=DATE:20220905
DTSTAMP:20260420T013451
CREATED:20230110T194644Z
LAST-MODIFIED:20230110T194646Z
UID:11342-1662249600-1662335999@www.rocklyncap.com
SUMMARY:So Yummy Grill & So Yummy Treats - CANCELLED DAY OF EVENT
DESCRIPTION:
URL:https://www.rocklyncap.com/event/so-yummy-grill-so-yummy-treats-cancelled-day-of-event/
END:VEVENT
BEGIN:VEVENT
DTSTART;VALUE=DATE:20220904
DTEND;VALUE=DATE:20220905
DTSTAMP:20260420T013451
CREATED:20230110T194644Z
LAST-MODIFIED:20230110T194646Z
UID:11343-1662249600-1662335999@www.rocklyncap.com
SUMMARY:DB's Rolling Dough
DESCRIPTION:
URL:https://www.rocklyncap.com/event/dbs-rolling-dough/
END:VEVENT
BEGIN:VEVENT
DTSTART;TZID=America/New_York:20220903T180000
DTEND;TZID=America/New_York:20220903T200000
DTSTAMP:20260420T013451
CREATED:20230110T194644Z
LAST-MODIFIED:20230110T194646Z
UID:11341-1662228000-1662235200@www.rocklyncap.com
SUMMARY:Jeremiah's Italian Ice
DESCRIPTION:
URL:https://www.rocklyncap.com/event/jeremiahs-italian-ice/
END:VEVENT
BEGIN:VEVENT
DTSTART;TZID=America/New_York:20220903T100000
DTEND;TZID=America/New_York:20220903T140000
DTSTAMP:20260420T013451
CREATED:20230110T194644Z
LAST-MODIFIED:20230110T194645Z
UID:11340-1662199200-1662213600@www.rocklyncap.com
SUMMARY:Blue Line Q
DESCRIPTION:
URL:https://www.rocklyncap.com/event/blue-line-q/
END:VEVENT
BEGIN:VEVENT
DTSTART;TZID=America/New_York:20220903T100000
DTEND;TZID=America/New_York:20220903T130000
DTSTAMP:20260420T013451
CREATED:20230110T194644Z
LAST-MODIFIED:20230110T194645Z
UID:11339-1662199200-1662210000@www.rocklyncap.com
SUMMARY:Red Wagon Produce 10-1
DESCRIPTION:
URL:https://www.rocklyncap.com/event/red-wagon-produce-10-1/
END:VEVENT
BEGIN:VEVENT
DTSTART;TZID=America/New_York:20220902T160000
DTEND;TZID=America/New_York:20220902T200000
DTSTAMP:20260420T013451
CREATED:20230110T194644Z
LAST-MODIFIED:20230110T194645Z
UID:11338-1662134400-1662148800@www.rocklyncap.com
SUMMARY:Cora's Kitchen
DESCRIPTION:
URL:https://www.rocklyncap.com/event/coras-kitchen/
END:VEVENT
BEGIN:VEVENT
DTSTART;VALUE=DATE:20220818
DTEND;VALUE=DATE:20220819
DTSTAMP:20260420T013451
CREATED:20230110T194643Z
LAST-MODIFIED:20230110T194645Z
UID:11337-1660780800-1660867199@www.rocklyncap.com
SUMMARY:Mobile Pet Grooming
DESCRIPTION:
URL:https://www.rocklyncap.com/event/mobile-pet-grooming/
END:VEVENT
BEGIN:VEVENT
DTSTART;TZID=America/New_York:20220806T183000
DTEND;TZID=America/New_York:20220806T210000
DTSTAMP:20260420T013451
CREATED:20230110T194643Z
LAST-MODIFIED:20230110T194645Z
UID:11336-1659810600-1659819600@www.rocklyncap.com
SUMMARY:S'mores Cones and Movie
DESCRIPTION:
URL:https://www.rocklyncap.com/event/smores-cones-and-movie/
END:VEVENT
END:VCALENDAR